BEGIN:VCALENDAR
VERSION:2.0
PRODID:-//jEvents 1.5 for Joomla//EN
BEGIN:VEVENT
CALSCALE:GREGORIAN
METHOD:PUBLISH

UID:48df01ab0328b1a8c57aba852e26038d
CATEGORIES:AkkreditÃ¡lt nagytrÃ©ning
SUMMARY:BarnaiR: BIOLOGIKA akkreditÃ¡lt nagytrÃ©ning 1/9 (Budapest)
LOCATION:Budapest, szervezÃ©s alatt
DESCRIPTION;ENCODING=QUOTED-PRINTABLE:<p>&nbsp;</p><p><b><span style="font-size: 12pt;">BIOLOGIKA akkreditÃ¡lt na
 gytanfolyam<br /></span></b><b><span style="font-size: 12pt;">8 napos (+ 1 
 vizsganap) trÃ©ning<span class="Apple-converted-space">&nbsp;</span></span>
 </b><b><span style="font-size: 12pt;"><span style="color: #003366;">Budapes
 ten</span></span></b></p><p><b><span style="font-size: 12pt;">&nbsp;</span>
 </b></p><p><span style="font-size: 10pt;">tÃ©makÃ¶r: daganatok, sorvadÃ¡sok
  Ã©s mÃ¡s elvÃ¡ltozÃ¡sok, biolÃ³giai Ã©rtelmÃ¼k, cÃ©ljuk, rendeltetÃ©sÃ¼k Ã
 ©s lefolyÃ¡suk.&nbsp;</span></p><p><span style="font-size: 10pt;">elnevezÃ©
 s: akkreditÃ¡lt biologika trÃ©ning a Szerv Atlasz alapjÃ¡n. (Programakkredi
 tÃ¡ciÃ³s lajstromszÃ¡m: PL-8579)</span></p><p><span style="font-size: 10pt;
 ">kategÃ³ria: biologika, prevenciÃ³</span>&nbsp;</p><p><span style="font-si
 ze: 10pt;">tÃ­pus: intenzÃ­v tanfolyam, felnÅ‘ttkÃ©pzÃ©s</span></p><p><span
  style="font-size: 10pt;">trÃ©ner:<span class="Apple-converted-space">&nbsp
 ;</span></span><span style="font-size: 10pt;"><strong>Barnai Roberto</stron
 g>, </span><span style="font-size: 10pt;"><span style="font-size: 8pt;"><a 
 href="http://biologika.hu/partnereink/barnai-roberto.html">http://biologika
 .hu/partnereink/barnai-roberto.html</a> </span></span></p><p><span style="f
 ont-size: 10pt;">helyszÃ­n:<strong><span class="Apple-converted-space"> Bud
 apest</span></strong></span><span style="font-size: 10pt;">, szervezÃ©s ala
 tt</span>&nbsp;</p><p><span style="font-size: 10pt;">idÅ‘tartam: <strong>9 
 nap</strong> (2 x 4 nap, mÃ¡rcius 6-7-8-9., 13-14-15-16., + 1 vizsganap<br 
 />&nbsp; &nbsp; &nbsp; &nbsp; &nbsp; &nbsp; &nbsp; &nbsp; &nbsp; &nbsp; &nb
 sp; &nbsp;vizsgalehetÅ‘sÃ©g legkorÃ¡bban egy hÃ³nap mÃºlva: Ã¡prilis 13. va
 gy november 23.)</span></p><p><span style="font-size: 10pt;"><span style="f
 ont-size: 10pt;">ebÃ©dszÃ¼net: <strong>13</strong></span><span style="font-
 size: 10pt;">-<strong>14</strong> <strong>Ã³rÃ¡ig</strong></span>&nbsp;</sp
 an></p><p><span style="font-size: 10pt;">bontÃ¡si lehetÅ‘sÃ©g: nincs (kivÃ©
 teles esetben ismÃ©tlÅ‘k szÃ¡mÃ¡ra, elÅ‘zetes egyeztetÃ©s alapjÃ¡n)&nbsp;<b
 r />&nbsp; &nbsp; &nbsp; &nbsp; &nbsp; &nbsp; &nbsp; &nbsp; &nbsp; &nbsp; &
 nbsp; &nbsp; <span style="font-size: 10pt;">az NLP intÃ©zet sikeres vizsga 
 utÃ¡n Barnai Roberto Ã¡ltal alÃ¡Ã­rt hivatalos tanÃºsÃ­tvÃ¡nyt Ã¡llÃ­t ki</
 span>.</span></p><p><span style="font-size: 10pt;"><span style="font-size: 
 10pt;">elÅ‘feltÃ©tel: A kÃ©pzÃ©si programra jelentkezÅ‘knek legalÃ¡bb Ã¡lta
 lÃ¡nos iskolai vÃ©gzettsÃ©ggel&nbsp;<br />&nbsp; &nbsp; &nbsp; &nbsp; &nbsp
 ; &nbsp; &nbsp; &nbsp; &nbsp; &nbsp; &nbsp;&nbsp; kell rendelkezniÃ¼k, egyÃ
 ©b bizonyÃ­tvÃ¡nyok meglÃ©te nem feltÃ©tele a tanfolyam elvÃ©gzÃ©sÃ©nek.&nb
 sp;<br />&nbsp; &nbsp; &nbsp; &nbsp; &nbsp; &nbsp; &nbsp; &nbsp;&nbsp; &nbs
 p; &nbsp; &nbsp; SzÃ¼ksÃ©ges az<span class="Apple-converted-space">&nbsp;</
 span></span><b><a href="http://eloadas.biologika.hu" target="_blank" style=
 "color: #1155cc;"><span style="font-size: 10pt;">5 biolÃ³giai termÃ©szettÃ¶
 rvÃ©ny</span></a></b><span style="font-size: 10pt;"><span class="Apple-conv
 erted-space">&nbsp;</span>online, ingyenes elÅ‘adÃ¡s megtekintÃ©se,&nbsp;<b
 r />&nbsp; &nbsp; &nbsp; &nbsp; &nbsp; &nbsp; &nbsp; &nbsp;&nbsp; &nbsp; &n
 bsp; &nbsp; Ã©s ha egy mÃ³d van rÃ¡ a Szerv Atlasz tanfolyamot megelÅ‘zÅ‘ a
 lapos tanulmÃ¡nyozÃ¡sa.</span> &nbsp;</span></p><p><span style="font-size: 
 10pt;">tananyag Ã©s prezentÃ¡ciÃ³s anyag: a Biologika Szerv Atlasz.&nbsp;<b
 r />&nbsp; &nbsp; &nbsp; &nbsp; &nbsp; &nbsp; &nbsp; &nbsp; &nbsp; &nbsp; &
 nbsp; &nbsp;Ha szeretne beletekinteni itt megteheti: </span><span style="te
 xt-decoration: underline;"><a href="http://www.szervatlasz.hu" target="_bla
 nk"><span style="font-size: 10pt;">www.szervatlasz.hu</span></a></span><spa
 n style="font-size: 10pt;"><br />&nbsp; &nbsp; &nbsp; &nbsp; &nbsp; &nbsp; 
 &nbsp; &nbsp; &nbsp; &nbsp; &nbsp; &nbsp;Ha szeretne mÃ©lyre hatÃ³bb ismere
 tekre szert tenni, javasoljuk elÅ‘re beszerezni&nbsp;<br />&nbsp; &nbsp; &n
 bsp; &nbsp; &nbsp; &nbsp; &nbsp; &nbsp; &nbsp; &nbsp; &nbsp; &nbsp;Ã©s tanu
 lmÃ¡nyozni a Szerv Atlaszt: </span><span style="text-decoration: underline;
 "><a href="http://www.kiadvanyok.biologika.hu" target="_blank"><span style=
 "font-size: 10pt;">www.kiadvanyok.biologika.hu</span></a></span></p><p>&nbs
 p;</p><p><span style="font-size: 10pt;">rÃ©szvÃ©teli dÃ­j:<span class="Appl
 e-converted-space">&nbsp;</span><b>275.000,- Ft / fÅ‘ (Ã¡fa mentes)</b>, </
 span><span style="font-size: 10pt;">az ismÃ©tlÅ‘ Ã©s korkedvezmÃ©ny itt nem
  vehetÅ‘ igÃ©nybe.</span></p><p><span style="font-size: 10pt;">j</span><spa
 n style="font-size: 10pt;"><span style="font-size: 10pt;"><span style="font
 -size: 10pt;">elentkezÃ©si hatÃ¡ridÅ‘: <b><span style="color: #800000;"><sp
 an style="font-size: 10pt;">2014. februÃ¡r 27.</span></span></b></span></sp
 an> &nbsp;</span>&nbsp;</p><p><span style="font-size: 10pt;"><span style="f
 ont-size: 10pt;">beiratkozÃ¡s:<span class="Apple-converted-space">&nbsp;</s
 pan></span><b><span style="color: #800000;"><span style="font-size: 10pt;">
 Ã­rÃ¡sos elÅ‘regisztrÃ¡ciÃ³ kÃ¶telezÅ‘</span></span></b><span style="font-s
 ize: 10pt;"><span class="Apple-converted-space">&nbsp;</span>a<span class="
 Apple-converted-space">&nbsp;</span>leÃ­rÃ¡s aljÃ¡nÃ¡l megadott e-mail cÃ­m
 en</span><span style="font-size: 10pt;">,&nbsp;</span>&nbsp;</span></p><p><
 span style="font-size: 10pt;">&nbsp; &nbsp; &nbsp; &nbsp; &nbsp; &nbsp; &nb
 sp; &nbsp; tovÃ¡bbi kÃ©rdÃ©seit is ezen a cÃ­men teheti fel. JelentkezÃ©s l
 emondÃ¡sa csak e-mailen lehetsÃ©ges.</span><span style="font-size: 10pt;">&
 nbsp;<br /></span><span style="font-size: 10pt;"><br /></span></p><p><span 
 style="font-size: 10pt;"> </span><span style="font-size: 10pt;">&nbsp;</spa
 n></p><p><span style="font-size: 10pt;">tematika:&nbsp;</span></p><p style=
 "margin-left: 30px;"><span style="font-size: 10pt;">A 180 leggyakoribb elvÃ
 ¡ltozÃ¡s (betegsÃ©g) kialakulÃ¡sÃ¡nak folyamata, Ã©rzelmi hÃ¡ttere</span><b
 r /><span style="font-size: 10pt;">Az akkreditÃ¡lt trÃ©ningen a tematika sz
 erint kitÃ©rÃ¼nk minden egyes Szerv Atlasz lapra,&nbsp;</span><br /><span s
 tyle="font-size: 10pt;">Ã©s megismerjÃ¼k a leggyakoribb szervi elvÃ¡ltozÃ¡s
 ok (betegsÃ©gtÃ¼netek) biolÃ³giai hÃ¡tterÃ©t, Ã¶sszefÃ¼ggÃ©seit.<br /><br /
 ></span></p><p style="margin-left: 30px;"><strong><span style="font-size: 1
 0pt;">1-4. nap</span></strong><br /><span style="font-size: 10pt;">Az Ã¶t b
 iolÃ³giai termÃ©szettÃ¶rvÃ©ny </span><br /><span style="font-size: 10pt;">A
  megbetegedÃ©seket beindÃ­tÃ³ folyamatok</span><br /><span style="font-size
 : 10pt;">Az elvÃ¡ltozÃ¡sok kÃ©tszakaszÃº lefutÃ¡sa</span><br /><span style=
 "font-size: 10pt;">A szervek Ã©s szÃ¶vetek csÃ­ralemez szÃ¡rmazÃ¡sÃ¡nak ren
 dszere</span><br /><span style="font-size: 10pt;">A mikroorganizmusok szere
 pe az elvÃ¡ltozÃ¡sokban</span><br /><span style="font-size: 10pt;">FejlÅ‘dÃ
 ©stan, embriolÃ³gia, anatÃ³mia, lÃ©lektan </span><br /><span style="font-si
 ze: 10pt;">Az elvÃ¡ltozÃ¡sok biolÃ³giai Ã©rtelme</span><br /><span style="f
 ont-size: 10pt;">A Biologika Szerv Atlasz hatÃ©kony hasznÃ¡latÃ¡nak elsajÃ¡
 tÃ­tÃ¡sa</span><br /><span style="font-size: 10pt;">Az agytÃ¶rzs Ã©s kÃ¶zÃ©
 pagy vezÃ©relte belsÅ‘ csÃ­ralemezbÅ‘l szÃ¡rmazÃ³ szervek</span><br /><span
  style="font-size: 10pt;">Ã©s lehetsÃ©ges elvÃ¡ltozÃ¡saik, betegsÃ©gnevek, 
 tÃ¼netek</span><br /><span style="font-size: 10pt;">Legfontosabb mirigyszÃ¶
 veteink, melyeken elvÃ¡ltozÃ¡sokat tudunk produkÃ¡lni.</span><br /><span st
 yle="font-size: 10pt;">A miÃ³mÃ¡k vagyis simaizomszÃ¶vetek sajÃ¡tos mÅ±kÃ¶d
 Ã©se, izomdaganatok, gÃ¶rcsÃ¶lÃ©sek</span><br /><span style="font-size: 10p
 t;">A kisagy vezÃ©relte kÃ¶zÃ©psÅ‘ csÃ­ralemezbÅ‘l szÃ¡rmazÃ³ szervek Ã©s l
 ehetsÃ©ges </span><br /><span style="font-size: 10pt;">elvÃ¡ltozÃ¡saik, bet
 egsÃ©gnevek, tÃ¼netek</span><br /><span style="font-size: 10pt;">A hÃ¡rtyas
 zÃ¶vetek sajÃ¡tos mÅ±kÃ¶dÃ©se (hashÃ¡rtya, mellhÃ¡rtya, szÃ­vburok, agyhÃ¡r
 tya)</span><br /><br /><strong><span style="font-size: 10pt;">5-8. nap</spa
 n></strong><br /><span style="font-size: 10pt;">A nagyagy velÅ‘Ã¡llomÃ¡ny v
 ezÃ©relte kÃ¶zÃ©psÅ‘ csÃ­ralemezbÅ‘l szÃ¡rmazÃ³ szervek Ã©s lehetsÃ©ges elv
 Ã¡ltozÃ¡saik, betegsÃ©gnevek, tÃ¼netek</span><br /><span style="font-size: 
 10pt;">A nagyagy kÃ©regÃ¡llomÃ¡ny vezÃ©relte kÃ¼lsÅ‘ csÃ­ralemezbÅ‘l szÃ¡rm
 azÃ³ szervek Ã©s lehetsÃ©ges elvÃ¡ltozÃ¡saik, betegsÃ©gnevek, tÃ¼netek</spa
 n><br /><span style="font-size: 10pt;">A hormonÃ¡lis Ã¡llapot, nemi/birtok 
 zÃ³nÃ¡k</span><br /><span style="font-size: 10pt;">A hangulati zavarok, a t
 Ã¶bbszÃ¶rÃ¶s Ã©rzelmi traumÃ¡k hatÃ¡sa a viselkedÃ©sre</span><br /><span st
 yle="font-size: 10pt;">Az agytÃ¶rzset Ã©rintÅ‘ Ã©rzelmi traumÃ¡k hatÃ¡sÃ¡ra
  megjelenÅ‘ kÃ©nyszeres viselkedÃ©s</span><br /><span style="font-size: 10p
 t;">A kisagyat Ã©rintÅ‘ Ã©rzelmi traumÃ¡k hatÃ¡sÃ¡ra megjelenÅ‘ kÃ©nyszeres
  viselkedÃ©s</span><br /><span style="font-size: 10pt;">A nagyagy velÅ‘Ã¡ll
 omÃ¡nyt Ã©rintÅ‘ Ã©rzelmi traumÃ¡k hatÃ¡sÃ¡ra kialakulÃ³ kÃ©nyszeres viselk
 edÃ©s</span><br /><span style="font-size: 10pt;">A nagyagy kÃ©regÃ¡llomÃ¡ny
 t Ã©rintÅ‘ Ã©rzelmi traumÃ¡k hatÃ¡sÃ¡ra kialakulÃ³ kÃ©nyszeres viselkedÃ©s<
 /span><br /><span style="font-size: 10pt;">A nemi/birtok zÃ³nÃ¡kat Ã©rintÅ‘
 , hormonÃ¡lis Ã¡llapotvÃ¡ltozÃ¡ssal egyÃ¼tt jÃ¡rÃ³ kÃ©nyszeres viselkedÃ©sf
 ormÃ¡k<br /></span><br /><span style="font-size: 10pt;"><strong>9. nap</str
 ong> - vizsganap A vizsgalehetÅ‘sÃ©g legkorÃ¡bban egy hÃ³nappal a tanfolyam
  utÃ¡n (Ã¡prilis 13).</span></p><p><br /><span style="font-size: 10pt;">A b
 iologika tanfolyamokon a tanfolyami rÃ©sztvevÅ‘:</span></p><p style="margin
 -left: 30px;"><span style="font-size: 10pt;"></span><span style="font-size:
  10pt;">- KÃ©pessÃ© vÃ¡lhat rÃ¡, hogy az Ã¶t biolÃ³giai termÃ©szettÃ¶rvÃ©ny
 ek Ã¶sszefÃ¼ggÃ©seinek adaptÃ¡lÃ¡sÃ¡ra.</span><br /><span style="font-size:
  10pt;">- KÃ©pessÃ© vÃ¡lhat a megbetegedÃ©seket beindÃ­tÃ³ folyamatok beazo
 nosÃ­tÃ¡sÃ¡ra.</span><br /><span style="font-size: 10pt;">- MegÃ©rtheti a b
 iolÃ³giai Ã¶sszefÃ¼ggÃ©seket</span><br /><span style="font-size: 10pt;">- M
 egismerheti az elvÃ¡ltozÃ¡sok kÃ©tszakaszÃº lefutÃ¡sÃ¡t.</span><br /><span 
 style="font-size: 10pt;">- ElsajÃ¡tÃ­thatja a szervek Ã©s szÃ¶vetek csÃ­ral
 emez szÃ¡rmazÃ¡sÃ¡nak rendszerÃ©t.</span><br /><span style="font-size: 10pt
 ;">- KÃ©pessÃ© vÃ¡lhat a mikroorganizmusok szerepÃ©nek felismerÃ©sÃ©re az e
 lvÃ¡ltozÃ¡sokban</span><br /><span style="font-size: 10pt;">- FejlÅ‘dÃ©stan
 , embriolÃ³gia anatÃ³mia, lÃ©lektan ismereteket szerezhet</span><br /><span
  style="font-size: 10pt;">- KÃ©pessÃ© vÃ¡lhat az elvÃ¡ltozÃ¡sok biolÃ³giai 
 Ã©rtelmÃ©nek felismerÃ©sÃ©re</span><br /><span style="font-size: 10pt;">- K
 Ã©pessÃ© vÃ¡lhat a Szerv Atlasz cÃ©lirÃ¡nyos, hatÃ©kony hasznÃ¡latÃ¡ra</spa
 n><br /><span style="font-size: 10pt;">- Megismerheti az agytÃ¶rzs Ã©s kÃ¶z
 Ã©pagy vezÃ©relte belsÅ‘ csÃ­ralemezbÅ‘l szÃ¡rmazÃ³ szervek folyamatait,</s
 pan><br /><span style="font-size: 10pt;">- a kisagy vezÃ©relte kÃ¶zÃ©psÅ‘ c
 sÃ­ralemezbÅ‘l szÃ¡rmazÃ³ szervek folyamatait,</span><br /><span style="fon
 t-size: 10pt;">- a nagyagy velÅ‘Ã¡llomÃ¡ny vezÃ©relte kÃ¶zÃ©psÅ‘ csÃ­raleme
 zbÅ‘l szÃ¡rmazÃ³ szervek folyamatait,</span><br /><span style="font-size: 1
 0pt;">- a nagyagy kÃ©regÃ¡llomÃ¡ny vezÃ©relte kÃ¼lsÅ‘ csÃ­ralemezbÅ‘l szÃ¡r
 mazÃ³ szervek folyamatait.</span><br /><span style="font-size: 10pt;">- Meg
 ismerheti a hormonÃ¡lis Ã¡llapotokhoz tartozÃ³ Ã©rzelmeket, Ã©s a nemi/birt
 ok zÃ³nÃ¡k mÅ±kÃ¶dÃ©sÃ©t.</span><br /><span style="font-size: 10pt;">- Megi
 smerheti az agytÃ¶rzset Ã©rintÅ‘ Ã©rzelmi traumÃ¡k hatÃ¡sÃ¡ra megjelenÅ‘ kÃ
 ©nyszeres viselkedÃ©seket.</span><br /><span style="font-size: 10pt;">- Meg
 ismerheti a kisagyat Ã©rintÅ‘ Ã©rzelmi traumÃ¡k hatÃ¡sÃ¡ra megjelenÅ‘ kÃ©ny
 szeres viselkedÃ©seket.</span><br /><span style="font-size: 10pt;">- Megism
 erheti a nagyagy velÅ‘Ã¡llomÃ¡nyt Ã©rintÅ‘ Ã©rzelmi traumÃ¡k hatÃ¡sÃ¡ra kia
 lakulÃ³ kÃ©nyszeres viselkedÃ©seket.</span><br /><span style="font-size: 10
 pt;">- Megismerheti a nagyagy kÃ©regÃ¡llomÃ¡nyt Ã©rintÅ‘ Ã©rzelmi traumÃ¡k 
 hatÃ¡sÃ¡ra kialakulÃ³ kÃ©nyszeres viselkedÃ©seket.</span><br /><span style=
 "font-size: 10pt;">- Megismerheti a nemi/birtok zÃ³nÃ¡kat Ã©rintÅ‘, hormonÃ
 ¡lis Ã¡llapotvÃ¡ltozÃ¡ssal egyÃ¼tt jÃ¡rÃ³ kÃ©nyszeres viselkedÃ©sformÃ¡kat.
 <br /></span><br /><span style="font-size: 10pt;">Ã–sszessÃ©gÃ©ben mÃ©lyebb
  Ã¶nismeretre tehet szert, Ã©s jobban megÃ©rtheti sajÃ¡t Ã©s mÃ¡sok viselke
 dÃ©sÃ©t, </span><span style="font-size: 10pt;">mÅ±kÃ¶dÃ©sÃ©t.</span></p><p>
 &nbsp;</p><p><span style="font-size: 10pt;">Szeretettel vÃ¡runk mindenkit, 
 aki megismerkedne a betegsÃ©gek valÃ³di Ã¶sszefÃ¼ggÃ©seivel, kÃ¶zelebbrÅ‘l 
 belenÃ©zne az</span></p><p><span style="font-size: 10pt;">orvostudomÃ¡ny le
 gÃºjabb Ã©s leghasznosabb felismerÃ©seibe, egy pÃ¡rbeszÃ©des, izgalmas mult
 imÃ©diÃ¡s elÅ‘adÃ¡s keretÃ©ben.</span></p><p><span style="font-size: 10pt;"
 >Az elÅ‘adÃ¡son sok kÃ©pet, Ã¡brÃ¡t bemutatunk, melyek megkÃ¶nnyÃ­tik Ã©s Ã
 ©rthetÅ‘vÃ© teszik az eddigi Ã©rt(het)etlensÃ©geket,</span></p><p><span sty
 le="font-size: 10pt;">megszÃ¼ntetik a kÃ©tsÃ©geket, Ã©s egyÃ©rtelmÅ±, vilÃ¡
 gos vÃ¡laszokat adnak arra, hogyan tudunk kilÃ¡balni Ã©s kigyÃ³gyulni</span
 ></p><p><span style="font-size: 10pt;">akÃ¡r gyÃ³gyÃ­thatatlannak hitt bete
 gsÃ©geinkbÅ‘l, vesztesÃ©g Ã©s kÃ¡rosodÃ¡s nÃ©lkÃ¼l. A betegsÃ©gek kialakulÃ
 ¡sÃ¡nak Ã©s</span></p><p><span style="font-size: 10pt;">Ã©rtelmÃ©nek ismere
 te tulajdonkÃ©ppen hasznÃ¡lati ÃºtmutatÃ³ az emberi test bÃ¶lcs "Ã¼zemeltet
 Ã©sÃ©hez". A tudÃ¡s egyben a</span></p><p><span style="font-size: 10pt;">ko
 moly megbetegedÃ©sek megelÅ‘zÃ©sÃ©t is szolgÃ¡lja, hiszen ha tudjuk mitÅ‘l 
 leszÃ¼nk "betegek", egyÃ©rtelmÅ±vÃ© vÃ¡lik,</span></p><p><span style="font-
 size: 10pt;">mi a teendÅ‘ az elkerÃ¼lÃ©sÃ¼k, ill. vÃ©gleges megszÃ¼ntetÃ©sÃ
 ¼k Ã©rdekÃ©ben. ElÅ‘kÃ©pzettsÃ©g nem szÃ¼ksÃ©ges, csak jÃ³zan Ã©sz.</span><
 /p><p>&nbsp;</p><p><span style="font-size: 10pt;">Az Ãšj Medicina csak <spa
 n style="text-decoration: underline; color: #333399;"><strong><a href="Orvo
 studomany/alapismeretek-oktato-video.html" target="_blank"><span style="col
 or: #333399; text-decoration: underline;">Ã¶t biolÃ³giai termÃ©szettÃ¶rvÃ©n
 y</span></a></strong></span>t tartalmaz, Ã©s nincs benne egyetlen tudomÃ¡ny
 os feltÃ©telezÃ©s sem. </span><span style="font-size: 10pt;">Ez azt jelenti
 , ha megbetegedÃ©srÅ‘l van szÃ³, Ã©s nem balesetrÅ‘l, mÃ©rgezÃ©srÅ‘l, sugÃ¡
 rzÃ¡srÃ³l vagy fejlÅ‘dÃ©si rendellenessÃ©gekrÅ‘l, </span><span style="font-
 size: 10pt;">akkor az adott "betegsÃ©g" lefolyÃ¡sa az Ãšj MedicinÃ¡ban (Bio
 logika) leÃ­rt mÃ³don zajlik. A kivÃ¡ltÃ³ ok ismerete lehetÅ‘vÃ© teszi </sp
 an><span style="font-size: 10pt;">az ok-megszÃ¼ntetÃ©st, Ã­gy az egÃ©szsÃ©g
 , gyÃ³gyulÃ¡s mÃ¡r csak Rajtad mÃºlik! Ha ismerjÃ¼k a kivÃ¡ltÃ³ okot, van e
 nnÃ©l fontosabb?</span></p><p>&nbsp;</p><p><span style="font-size: 10pt;">A
  trÃ©ningen jegyzetet nem adunk, a tananyag a Szerv Atlasz, mely beszerezhe
 tÅ‘ a tanfolyamon vagy a <a href="Webshop.html" target="_blank">webshopban<
 /a>.</span></p><p><span style="font-size: 10pt;">Tanfolyamra jelentkezÃ©sko
 r kÃ©rjÃ¼k, feltÃ©tlenÃ¼l add meg a kÃ¶vetkezÅ‘ adatokat:</span></p><p>&nbs
 p;</p><p><span style="font-size: 10pt;">&nbsp;&nbsp; - <strong>a trÃ©ning n
 evÃ©t, helyszÃ­nÃ©t Ã©s dÃ¡tumÃ¡t</strong>, minden napot kÃ¼lÃ¶n megjelelÃ¶
 lve, pl. "januÃ¡r 2-3-4-5."</span></p><p>&nbsp; &nbsp;<span style="font-siz
 e: 10pt;"> - a <strong>jelentkezÅ‘ pontos nevÃ©t</strong> (abban a formÃ¡ba
 n, ami majd rÃ¡kerÃ¼l az oklevÃ©lre)</span></p><p><span style="font-size: 1
 0pt;">&nbsp;&nbsp; - a jelentkezÅ‘ <strong>mobil szÃ¡mÃ¡t</strong> (ebben a
  formÃ¡ban: +36209876543)</span></p><p><span style="font-size: 10pt;">&nbsp
 ;&nbsp; - a jelentkezÅ‘ <strong>e-mail cÃ­mÃ©t</strong> (akkor is, ha azono
 s a kÃ¼ldÅ‘ cÃ­mÃ©vel)</span></p><p><span style="font-size: 10pt;">&nbsp;</
 span><span style="font-size: 10pt;">&nbsp;</span></p><p><span style="font-s
 ize: 10pt;">A jelentkezÃ©st nÃ©hÃ¡ny munkanapon belÃ¼l visszaigazoljuk, ezÃ
 ©rt kÃ©rjÃ¼k, hogy Ã¼gyelj e-mail cÃ­med pontos begÃ©pelÃ©sre.</span></p><p
 ><span style="font-size: 10pt;">Az elÅ‘adÃ¡sokrÃ³l, tanfolyamokrÃ³l, egyÃ©b
  kurzusokrÃ³l az </span><span style="font-size: 10pt;">elÅ‘adÃ³ Ã­rÃ¡sos en
 gedÃ©lye nÃ©lkÃ¼l kÃ©pi vagy hangfelvÃ©telt kÃ©szÃ­teni (pusztÃ¡n szerzÅ‘i 
 jogi okokbÃ³l) nem engedÃ©lyezett.</span>&nbsp;</p><p><span style="font-siz
 e: 10pt;">MegÃ©rtÃ©sedet Ã©s egyÃ¼ttmÅ±kÃ¶dÃ©sedet kÃ¶szÃ¶njÃ¼k.</span>&nbs
 p;</p><p>&nbsp;</p><p style="text-align: left;"><em><span style="font-size:
  10pt;">Szeretettel vÃ¡runk tanfolyamunkon!</span></em></p><p style="text-a
 lign: left;"><em><span style="font-size: 10pt;"><br /></span></em></p>
CONTACT:
 
 
 
 
 Ez az email cÃ­m vÃ©dett a spam robotoktÃ³l, a megtekintÃ©sÃ©hez engedÃ©lyezni kell a Javascriptet.
 
 
 

DTSTAMP:20260424T120010Z
DTSTART:20140306T090000Z
DTEND:20140306T170000Z
SEQUENCE:0
TRANSP:OPAQUE
END:VEVENT
END:VCALENDAR