BEGIN:VCALENDAR
VERSION:2.0
PRODID:-//jEvents 1.5 for Joomla//EN
BEGIN:VEVENT
CALSCALE:GREGORIAN
METHOD:PUBLISH

UID:8f0780007922b6220186217ffb243ed4
CATEGORIES:Biologika Vizsganap
SUMMARY:Biologika vizsganap 9/9, szintfelmÃ©rÅ‘ vizsgÃ¡k (Budapest)
LOCATION:Budapest, szervezÃ©s alatt
DESCRIPTION;ENCODING=QUOTED-PRINTABLE:<p>&nbsp;</p><p><span style="font-size: 12pt;"><strong>BIOLOGIKA VIZSGANAP<
 /strong></span></p><p><span style="font-size: 12pt;"><strong>Biologika A Ã©
 s B vizsga <span style="color: #003366;">Budapesten</span></strong></span><
 /p><p><o:p>&nbsp;</o:p></p><p><span style="font-size: 10pt;">elnevezÃ©s: ak
 kreditÃ¡lt B Ã©s szintfelmÃ©rÅ‘ A vizsga</span></p><p><span style="font-siz
 e: 10pt;">lÃ©tszÃ¡mkorlÃ¡t: <strong><span style="color: maroon;">maximum 10
  fÅ‘ / turnus</span></strong></span></p><p><span style="font-size: 10pt;"><
 span style="font-size: 10pt;">az A, szintfelmÃ©rÅ‘ vizsga dÃ­ja:<strong><sp
 an style="color: maroon;"> 20.000.-Ft / fÅ‘</span></strong></span></span></
 p><p><span style="font-size: 10pt;"><span style="font-size: 10pt;"><span st
 yle="font-size: 10pt;">helyszÃ­n: </span></span><strong><span style="color:
  #003366;">Budapest</span></strong>, szervezÃ©s alatt</span></p><p><span st
 yle="font-size: 10pt;">jelentkezÃ©s: e-mailben a 
 <script language='JavaSc
 ript' type='text/javascript'>
 <!--
 var prefix = 'm&#97;&#105;lt&#111;:';

  var suffix = '';
 var attribs = '';
 var path = 'hr' + 'ef' + '=';
 var ad
 dy7113 = 'j&#101;l&#101;ntk&#101;z&#101;m' + '&#64;';
 addy7113 = addy7113 
 + 'b&#105;&#111;l&#111;g&#105;k&#97;' + '&#46;' + 'h&#117;';
 document.writ
 e( '<a ' + path + '\'' + prefix + addy7113 + suffix + '\'' + attribs + '>' 
 );
 document.write( addy7113 );
 document.write( '<\/a>' );
 //-->
 </scrip
 t><script language='JavaScript' type='text/javascript'>
 <!--
 document.wri
 te( '<span style=\'display: none;\'>' );
 //-->
 </script>Ez az email cÃ­m 
 vÃ©dett a spam robotoktÃ³l, a megtekintÃ©sÃ©hez engedÃ©lyezni kell a Javasc
 riptet.
 <script language='JavaScript' type='text/javascript'>
 <!--
 docum
 ent.write( '</' );
 document.write( 'span>' );
 //-->
 </script> e-mail cÃ­
 men</span></p><p><span style="font-size: 10pt;">&nbsp;</span></p><p>&nbsp;<
 /p><p><span style="font-size: 10pt;"><span style="font-size: 10pt;"><strong
 ><span style="color: #003366;">AkkreditÃ¡lt vizsga</span></strong></span> (
 B vizsga): azoknak a vizsgÃ¡ja, akik az akkreditÃ¡lt NagytrÃ©ninget vÃ©gzet
 Ã©k el, a NagytrÃ©ning rÃ©sze, nem vÃ¡laszthatÃ³, ennek Ã¡ra magÃ¡ban fogla
 lja a vizsgÃ¡t Ã©s a tanfolyam idÅ‘pontjÃ¡hoz kÃ¶tÃ¶tt<strong>.</strong></s
 pan></p><p><span style="font-size: 10pt;"><strong></strong></span></p><p><s
 pan style="font-size: 10pt;"><span style="color: #333399;"><span style="fon
 t-size: 10pt;"><span style="font-size: 10pt;"><strong><span style="color: #
 003366;">SzintfelmÃ©rÅ‘ vizsga</span></strong></span></span> <span style="c
 olor: #000000;">(A vizsga):</span></span> a valaha eddig Biologika trÃ©ning
 et vÃ©gzettek vizsgÃ¡ja Ã©s az idei KistrÃ©ninget vÃ©gzettekÃ©, azoknak val
 Ã³, akik szeretnÃ©k felmÃ©rni az ÃºjmedicinÃ¡s tudÃ¡sukat, Ã©s errÅ‘l oklev
 elet szeretnÃ©nek kapni. Ez a vizsga szabadon vÃ¡laszthatÃ³, a tanfolyamok 
 idÅ‘pontjÃ¡hoz nem kÃ¶tÃ¶tt.</span></p><p>&nbsp;</p><p>&nbsp;</p><p><span s
 tyle="font-size: 10pt;"><span style="font-size: 10pt;"><span style="color: 
 #333399;"><span style="font-size: 10pt;"><span style="font-size: 10pt;"><st
 rong><span style="color: #003366;">A vizsga anyaga: </span></strong><span s
 tyle="color: #000000;">a Szerv Atlasz, Ã¡ltalÃ¡nos kÃ©rdÃ©sek, a hÃ¡rom csÃ
 ­ralemezhez kapcsolÃ³dÃ³ kÃ©rdÃ©sek</span></span></span></span></span></spa
 n><span style="color: #000000;">&nbsp;</span></p><p>&nbsp;&nbsp;</p>
CONTACT:
 
 
 
 
 Ez az email cÃ­m vÃ©dett a spam robotoktÃ³l, a megtekintÃ©sÃ©hez engedÃ©lyezni kell a Javascriptet.
 
 
 

DTSTAMP:20260422T114929Z
DTSTART:20140413T080000Z
DTEND:20140413T160000Z
SEQUENCE:0
TRANSP:OPAQUE
END:VEVENT
END:VCALENDAR