BEGIN:VCALENDAR
VERSION:2.0
PRODID:-//jEvents 1.5 for Joomla//EN
BEGIN:VEVENT
CALSCALE:GREGORIAN
METHOD:PUBLISH

UID:789f7bb91cb8632687c3a01a061fe0c0
CATEGORIES:NyilvÃ¡nos Ã¶sszejÃ¶vetel
SUMMARY:Konzulensek: szakmai Ã©s Ã©rdeklÅ‘dÅ‘ KLUB (Budapest)
LOCATION:Budapest, MagnetBank szÃ©khÃ¡z
DESCRIPTION;ENCODING=QUOTED-PRINTABLE:<p>&nbsp;<strong><span style="font-size: 12pt;">BIOLOGIKA (ÃšJMEDICINA) KLU
 B</span></strong></p><p><strong><span style="font-size: 12pt;"><span style=
 "color: #003366;">Budapesten</span></span></strong></p><p><b>&nbsp;</b></p>
 <p><span style="font-size: 10pt;">tÃ©makÃ¶r: szakmai kÃ©rdÃ©sek-vÃ¡laszok, 
 esetek megbeszÃ©lÃ©se, Ã©rdeklÅ‘dÅ‘k kÃ©rdÃ©sei</span><span style="font-siz
 e: 10pt;"><br /></span></p><p><span style="font-size: 10pt;">elnevezÃ©s: Bi
 ologika (Ãºj medicina) KLUB</span></p><p><span style="font-size: 10pt;">lÃ©
 tszÃ¡mkorlÃ¡t: <span style="font-size: 10pt;"><strong><span style="color: m
 aroon;">25 fÅ‘</span></strong></span> </span></p><p><span style="font-size:
  10pt;">tÃ©mavezetÅ‘: </span><span style="font-size: 10pt;"><strong>minden 
 biologika konzulens meghÃ­vott</strong></span></p><p><span style="font-size
 : 10pt;">helyszÃ­n: </span><strong><span style="font-size: 10pt;">Budapest 
 VI. kerÃ¼let, MagnetBank szÃ©khÃ¡z, kÃ¡vÃ©zÃ³, AndrÃ¡ssy u. 98.</span></str
 ong></p><p><span style="font-size: 10pt;">&nbsp;</span></p><p><span style="
 font-size: 10pt;">jelentkezÃ©s: <span style="font-size: 10pt;">a <span styl
 e="color: #0000ff;">
 <script language='JavaScript' type='text/javascript'>
 
 <!--
 var prefix = 'm&#97;&#105;lt&#111;:';
 var suffix = '';
 var attrib
 s = '';
 var path = 'hr' + 'ef' + '=';
 var addy39960 = 'j&#101;l&#101;ntk&
 #101;z&#101;m' + '&#64;';
 addy39960 = addy39960 + 'b&#105;&#111;l&#111;g&#
 105;k&#97;' + '&#46;' + 'h&#117;';
 document.write( '<a ' + path + '\'' + p
 refix + addy39960 + suffix + '\'' + attribs + '>' );
 document.write( addy3
 9960 );
 document.write( '<\/a>' );
 //-->
 </script><script language='Java
 Script' type='text/javascript'>
 <!--
 document.write( '<span style=\'displ
 ay: none;\'>' );
 //-->
 </script>Ez az email cÃ­m vÃ©dett a spam robotoktÃ
 ³l, a megtekintÃ©sÃ©hez engedÃ©lyezni kell a Javascriptet.
 <script languag
 e='JavaScript' type='text/javascript'>
 <!--
 document.write( '</' );
 docu
 ment.write( 'span>' );
 //-->
 </script></span>&nbsp;e-mail cÃ­men a lÃ©tsz
 Ã¡mkorlÃ¡t miatt, kÃ©rjÃ¼k jelentkezzen. A klub elÅ‘tti napon visszaigazolÃ
 ³ e-mailt Ã­runk, mely tartalmazni fogja, hogy mely konzulensek lesznek ott
  a klubon</span></span></p><p><span style="font-size: 10pt;">elÅ‘feltÃ©tel:
  <strong><span style="color: maroon;">mÃ¡rciustÃ³l a szakmai klubhoz Biolog
 ika tanfolyam elvÃ©gzÃ©se</span></strong></span></p><p><span style="font-si
 ze: 10pt;"><strong><span style="color: maroon;">&nbsp; &nbsp; &nbsp; &nbsp;
  &nbsp; &nbsp; &nbsp; &nbsp; &nbsp; &nbsp;az Biologika klubhoz tÃ¡jÃ©kozott
 sÃ¡g a tÃ©mÃ¡rÃ³l&nbsp;</span></strong></span></p><p><span style="font-size
 : 10pt;">rÃ©szvÃ©teli dÃ­j:</span>&nbsp; <strong><span style="font-size: 10
 pt;">fogyasztÃ¡s a Magnet kÃ¡vÃ©zÃ³ban tetszÃ©s szerint</span></strong></p>
 <p>&nbsp;</p><p><span style="font-size: 10pt;">A klub rÃ©sztvevÅ‘i kÃ©rdezh
 etnek egymÃ¡stÃ³l Ã©s a konzulensektÅ‘l, felvethetnek Ã¶tleteket, problÃ©mÃ
 ¡kat, kÃ©rdezhetnek sajÃ¡t elvÃ¡ltozÃ¡saikrÃ³l, tanfolyamokrÃ³l, konzultÃ¡c
 iÃ³s lehetÅ‘sÃ©gekrÅ‘l, Ã¡polhatjÃ¡k szakmai, barÃ¡ti kapcsolataikat, talÃ¡
 lkozhatnak hasonlÃ³ gondolkodÃ¡sÃºakkal.</span></p><p>&nbsp;</p><p><strong>
 <span style="font-size: 10pt;"></span></strong>&nbsp;</p><p>&nbsp;</p>
CONTACT:
 
 
 
 
 Ez az email cÃ­m vÃ©dett a spam robotoktÃ³l, a megtekintÃ©sÃ©hez engedÃ©lyezni kell a Javascriptet.
 
 
 
X-EXTRAINFO:JelentkezÃ©skor add meg:\n1.) a trÃ©ning nevÃ©t, helyszÃ­nÃ©t Ã©s idÅ‘pontj
 Ã¡t(!)\n2.) pontos nevedet\n3.) mobil szÃ¡modat\n4.) e-mail cÃ­medet\n5.) k
 edvezmÃ©ny alapjÃ¡t (ha jogosult vagy)\n
DTSTAMP:20260422T114946Z
DTSTART:20140204T170000Z
DTEND:20140204T190000Z
SEQUENCE:0
TRANSP:OPAQUE
END:VEVENT
END:VCALENDAR