BEGIN:VCALENDAR
VERSION:2.0
PRODID:-//jEvents 1.5 for Joomla//EN
BEGIN:VEVENT
CALSCALE:GREGORIAN
METHOD:PUBLISH

UID:f032014feff19a5eb251a98ff13b4a1b
CATEGORIES:CsoporttalÃ¡lkozÃ³
SUMMARY:Biologika KLUB Ã©rdeklÅ‘dÅ‘ Ã©s szakmai
LOCATION:
DESCRIPTION;ENCODING=QUOTED-PRINTABLE:\n\nBIOLOGIKA (ÃšJMEDICINA) KLUB\n\n\n Ã‰rdeklÅ‘dÅ‘ Ã©s szakmai Ã¶sszejÃ¶ve
 tel Budapesten\n\n\n&nbsp;Figyelem, az eddig meghirdetettÅ‘l eltÃ©rÅ‘en hÃ³
 nap elsÅ‘ csÃ¼tÃ¶rtÃ¶kjÃ©n lesz az OktogonnÃ¡l!\n\n\n&nbsp;\n\n\ntÃ©makÃ¶r:
  szakmai kÃ©rdÃ©sek-vÃ¡laszok, esetek megbeszÃ©lÃ©se, Ã©rdeklÅ‘dÅ‘k kÃ©rdÃ©
 sei\n\n\n\nelnevezÃ©s: Biologika (Ãºjmedicina) KLUB\n\n\nlÃ©tszÃ¡mkorlÃ¡t: 
 30 fÅ‘ \n\n\ntÃ©mavezetÅ‘: minden biologika konzulens meghÃ­vott\n\n\nhelys
 zÃ­n: Budapest, SOHO Budapest, NagymezÅ‘ utca 31. VI. kerÃ¼let&nbsp;\n\n\ni
 dÅ‘pont: 2014. Ã¡prilis 3. 18:00-21:00\n\n\n&nbsp;\n\n\njelentkezÃ©s: a 
 

  
 
 
 Ez az email cÃ­m vÃ©dett a spam robotoktÃ³l, a megtekintÃ©sÃ©hez eng
 edÃ©lyezni kell a Javascriptet.
 
 
 "&nbsp;e-mail cÃ­men a lÃ©tszÃ¡mkorlÃ¡
 t miatt, kÃ©rjÃ¼k jelentkezz. A klub elÅ‘tti napon visszaigazolÃ³ e-mailt Ã
 ­runk, mely tartalmazni fogja, hogy mely konzulensek lesznek ott a klubon\n
 \n\nelÅ‘feltÃ©tel: nincs, mindenkit szeretettel vÃ¡runk\n\n\nrÃ©szvÃ©teli d
 Ã­j:&nbsp; vacsora fogyasztÃ¡s, min. 800.-Ft, az Ã©tlapot itt talÃ¡lod\n\n\
 n&nbsp;ingyenes parkolÃ³k 18 Ã³rÃ¡tÃ³l itt talÃ¡lhatÃ³k, a VI. kerÃ¼letnÃ©l
 \n\n\n&nbsp;\n\n\nA klub rÃ©sztvevÅ‘i kÃ©rdezhetnek egymÃ¡stÃ³l Ã©s a konzu
 lensektÅ‘l, felvethetnek Ã¶tleteket, problÃ©mÃ¡kat, kÃ©rdezhetnek sajÃ¡t el
 vÃ¡ltozÃ¡saikrÃ³l, tanfolyamokrÃ³l, konzultÃ¡ciÃ³s lehetÅ‘sÃ©gekrÅ‘l, Ã¡pol
 hatjÃ¡k szakmai, barÃ¡ti kapcsolataikat, talÃ¡lkozhatnak hasonlÃ³ gondolkod
 Ã¡sÃºakkal.\n\n\n JelentkezÃ©skor add meg:\n1.) a klub idÅ‘pontjÃ¡t\n2.) po
 ntos nevedet\n3.) mobil szÃ¡modat\n4.) e-mail cÃ­medet\n

DTSTAMP:20260422T114219Z
DTSTART:20140403T160000Z
DTEND:20140403T190000Z
SEQUENCE:0
TRANSP:OPAQUE
END:VEVENT
END:VCALENDAR